BEGIN:VCALENDAR
VERSION:2.0
PRODID:-//A+ Alliance - ECPv6.15.20//NONSGML v1.0//EN
CALSCALE:GREGORIAN
METHOD:PUBLISH
X-ORIGINAL-URL:https://aplusalliance.org
X-WR-CALDESC:Events for A+ Alliance
REFRESH-INTERVAL;VALUE=DURATION:PT1H
X-Robots-Tag:noindex
X-PUBLISHED-TTL:PT1H
BEGIN:VTIMEZONE
TZID:UTC
BEGIN:STANDARD
TZOFFSETFROM:+0000
TZOFFSETTO:+0000
TZNAME:UTC
DTSTART:20210101T000000
END:STANDARD
END:VTIMEZONE
BEGIN:VEVENT
DTSTART;VALUE=DATE:20221214
DTEND;VALUE=DATE:20221215
DTSTAMP:20260425T201159
CREATED:20230117T212330Z
LAST-MODIFIED:20230118T164358Z
UID:21829-1670976000-1671062399@aplusalliance.org
SUMMARY:Incubating Feminist AI: MENA f<a+i>r Hub’s First Network Meeting
DESCRIPTION:Speakers: Soraj Hongladarom\, Caitlin Kraft-Buchman\, Nadine Moawad\, Nagla Rizk and Amira Salah-\nAhmed. \nModerator: Nadine Weheba \nDate: Wednesday\, Dec 14th 2022 \nThe first Middle East and North Africa (MENA) f&lt;a+i&gt;r Hub’s network meeting was held on Wednesday\n14th Dec 2022 at 3.30pm Cairo local time via Zoom. The Access to Knowledge for Development Center\n(A2K4D) at the American University in Cairo\, School of Business introduced the f&lt;a+i&gt;r Hubs Network\nand brought together key stakeholders in MENA in an action-oriented conversation on how new\ntechnologies such as AI can be harnessed to address MENA’s most pressing developmental problems\nwith focus on gender inclusion. \n  \nKey issues discussed: \n\n\nDigital and analogue divides are intertwined and can be exacerbated by AI.\n\n\nFeminists need to invest their efforts in proactively creating the future that we want to live in rather than just reacting.\n\n\nAI can play a role in promoting awareness of the way technology can be intertwined with socioeconomic problems and can be utilized for achieving equality and justice.\n\n\nWhat is coming for humanity is impossible to predict\, but it is necessary to try all approaches to ensure the future is fair for women.\n\n\nThere are high level plans on investing in AI for smart cities\, pensions\, healthcare etc. in the region and in Egypt in particular however there are not enough women or youth present at these tables. No one is currently looking at AI with a feminist lens.\n\n\nThere is a huge disconnect between those working in feminist spaces and those working in tech. We need to bring both groups together to share knowledge and have discussions. We also need to include major stakeholders involved in decision and policy making\n\n\nThere is an urgent need to build an open data platform that hosts data sets from the MENA region to produce AI models for the MENA region instead of relying on tech produced by the West.\n\n\nVideo:\nhttps://www.youtube.com/watch?v=9g5mNxb2wsY&amp;t=3s
URL:https://aplusalliance.org/event/incubating-feminist-ai-mena-fair-hubs-first-network-meeting/
CATEGORIES:Reuniones equipo
ATTACH;FMTTYPE=image/jpeg:https://aplusalliance.org/wp-content/uploads/2023/01/Final-Poster.jpg
END:VEVENT
END:VCALENDAR