BEGIN:VCALENDAR
VERSION:2.0
PRODID:-//A+ Alliance - ECPv6.15.20//NONSGML v1.0//EN
CALSCALE:GREGORIAN
METHOD:PUBLISH
X-ORIGINAL-URL:https://aplusalliance.org
X-WR-CALDESC:Events for A+ Alliance
REFRESH-INTERVAL;VALUE=DURATION:PT1H
X-Robots-Tag:noindex
X-PUBLISHED-TTL:PT1H
BEGIN:VTIMEZONE
TZID:Europe/Paris
BEGIN:DAYLIGHT
TZOFFSETFROM:+0100
TZOFFSETTO:+0200
TZNAME:CEST
DTSTART:20230326T010000
END:DAYLIGHT
BEGIN:STANDARD
TZOFFSETFROM:+0200
TZOFFSETTO:+0100
TZNAME:CET
DTSTART:20231029T010000
END:STANDARD
BEGIN:DAYLIGHT
TZOFFSETFROM:+0100
TZOFFSETTO:+0200
TZNAME:CEST
DTSTART:20240331T010000
END:DAYLIGHT
BEGIN:STANDARD
TZOFFSETFROM:+0200
TZOFFSETTO:+0100
TZNAME:CET
DTSTART:20241027T010000
END:STANDARD
BEGIN:DAYLIGHT
TZOFFSETFROM:+0100
TZOFFSETTO:+0200
TZNAME:CEST
DTSTART:20250330T010000
END:DAYLIGHT
BEGIN:STANDARD
TZOFFSETFROM:+0200
TZOFFSETTO:+0100
TZNAME:CET
DTSTART:20251026T010000
END:STANDARD
END:VTIMEZONE
BEGIN:VEVENT
DTSTART;TZID=Europe/Paris:20240516T150000
DTEND;TZID=Europe/Paris:20240516T163000
DTSTAMP:20260421T152453
CREATED:20240216T101923Z
LAST-MODIFIED:20240514T054053Z
UID:23102-1715871600-1715877000@aplusalliance.org
SUMMARY:fA+Ir: Incubating Feminist AI Prototypes
DESCRIPTION:Featuring new movement\, new alliances\, new prototypes & new methods  \nfrom the f<a+i>r Feminist AI Research Network: \n\nExplainable AI Tutors  -Upper Egypt; and\nNatural Resource Governance with Yaqui -Mexico
URL:https://aplusalliance.org/event/fr-incubating-feminist-ai-prototypes/
CATEGORIES:Eventos A+,Eventos virtuales
ATTACH;FMTTYPE=image/jpeg:https://aplusalliance.org/wp-content/uploads/2024/02/2024_Prototypes-1605.jpg
END:VEVENT
END:VCALENDAR