BEGIN:VCALENDAR
VERSION:2.0
PRODID:-//A+ Alliance - ECPv6.15.20//NONSGML v1.0//EN
CALSCALE:GREGORIAN
METHOD:PUBLISH
X-WR-CALNAME:A+ Alliance
X-ORIGINAL-URL:https://aplusalliance.org
X-WR-CALDESC:Events for A+ Alliance
REFRESH-INTERVAL;VALUE=DURATION:PT1H
X-Robots-Tag:noindex
X-PUBLISHED-TTL:PT1H
BEGIN:VTIMEZONE
TZID:Asia/Krasnoyarsk
BEGIN:STANDARD
TZOFFSETFROM:+0700
TZOFFSETTO:+0700
TZNAME:+07
DTSTART:20230101T000000
END:STANDARD
END:VTIMEZONE
BEGIN:VEVENT
DTSTART;TZID=Asia/Krasnoyarsk:20240221T190000
DTEND;TZID=Asia/Krasnoyarsk:20240221T210000
DTSTAMP:20260421T142227
CREATED:20240111T042040Z
LAST-MODIFIED:20240112T145430Z
UID:23039-1708542000-1708549200@aplusalliance.org
SUMMARY:AI & Equality Human Rights Toolbox Workshop
DESCRIPTION:Intended Audience: Data scientists and related technical fields\, also relevant for policy makers (to employ concepts\, critical analysis\, and a shared vocabulary).\nAim: Demonstrate the (positive or negative) social impact of AI\, advocate for an approach to AI development that has human rights at its core. The goal is to communicate responsibilities and practices to a technical university generation\, promoting an approach to the creation of AI systems that centers equality through human rights.\nMethod: Using real-world examples\, technical language\, and follow-along coding exercises\, the workshop bridges between disciplines\, enabling conversations on the concrete human rights aspects of developing and regulating AI technologies.
URL:https://aplusalliance.org/event/ai-equality-human-rights-toolbox-workshop/
CATEGORIES:Eventos A+
END:VEVENT
END:VCALENDAR