BEGIN:VCALENDAR
VERSION:2.0
PRODID:-//A+ Alliance - ECPv6.15.20//NONSGML v1.0//EN
CALSCALE:GREGORIAN
METHOD:PUBLISH
X-ORIGINAL-URL:https://aplusalliance.org
X-WR-CALDESC:Events for A+ Alliance
REFRESH-INTERVAL;VALUE=DURATION:PT1H
X-Robots-Tag:noindex
X-PUBLISHED-TTL:PT1H
BEGIN:VTIMEZONE
TZID:Europe/Helsinki
BEGIN:DAYLIGHT
TZOFFSETFROM:+0200
TZOFFSETTO:+0300
TZNAME:EEST
DTSTART:20220327T010000
END:DAYLIGHT
BEGIN:STANDARD
TZOFFSETFROM:+0300
TZOFFSETTO:+0200
TZNAME:EET
DTSTART:20221030T010000
END:STANDARD
BEGIN:DAYLIGHT
TZOFFSETFROM:+0200
TZOFFSETTO:+0300
TZNAME:EEST
DTSTART:20230326T010000
END:DAYLIGHT
BEGIN:STANDARD
TZOFFSETFROM:+0300
TZOFFSETTO:+0200
TZNAME:EET
DTSTART:20231029T010000
END:STANDARD
BEGIN:DAYLIGHT
TZOFFSETFROM:+0200
TZOFFSETTO:+0300
TZNAME:EEST
DTSTART:20240331T010000
END:DAYLIGHT
BEGIN:STANDARD
TZOFFSETFROM:+0300
TZOFFSETTO:+0200
TZNAME:EET
DTSTART:20241027T010000
END:STANDARD
END:VTIMEZONE
BEGIN:VEVENT
DTSTART;TZID=Europe/Helsinki:20230925T153000
DTEND;TZID=Europe/Helsinki:20230925T170000
DTSTAMP:20260423T164805
CREATED:20230809T122433Z
LAST-MODIFIED:20230821T161718Z
UID:22444-1695655800-1695661200@aplusalliance.org
SUMMARY:Feminist AI Research Network Global Webinars: Compost Engineers
DESCRIPTION:The third installment of this series focuses on Compost engineers with Joana Varon (Coding Rights) and Lucía Egaña (Pluriversidad Nómada)
URL:https://aplusalliance.org/event/feminist-ai-research-network-global-webinars-compost-engineers/
CATEGORIES:Eventos A+,Eventos virtuales
ATTACH;FMTTYPE=application/pdf:https://aplusalliance.org/wp-content/uploads/2023/08/FAIR-FALL-EVENTS_Sept-25-2.pdf
END:VEVENT
END:VCALENDAR