BEGIN:VCALENDAR
VERSION:2.0
PRODID:-//A+ Alliance - ECPv6.15.20//NONSGML v1.0//EN
CALSCALE:GREGORIAN
METHOD:PUBLISH
X-WR-CALNAME:A+ Alliance
X-ORIGINAL-URL:https://aplusalliance.org
X-WR-CALDESC:Events for A+ Alliance
REFRESH-INTERVAL;VALUE=DURATION:PT1H
X-Robots-Tag:noindex
X-PUBLISHED-TTL:PT1H
BEGIN:VTIMEZONE
TZID:Asia/Krasnoyarsk
BEGIN:STANDARD
TZOFFSETFROM:+0700
TZOFFSETTO:+0700
TZNAME:+07
DTSTART:20220101T000000
END:STANDARD
END:VTIMEZONE
BEGIN:VEVENT
DTSTART;TZID=Asia/Krasnoyarsk:20230918T200000
DTEND;TZID=Asia/Krasnoyarsk:20230918T213000
DTSTAMP:20260423T175634
CREATED:20230912T135606Z
LAST-MODIFIED:20230912T140844Z
UID:22546-1695067200-1695072600@aplusalliance.org
SUMMARY:The 8th ASIA Network Meeting
DESCRIPTION:Dr. Supavadee Aramvith will talk about inclusive algorithms and design for AI in the 8th ASIA Network Meeting organized by the Southeast Asian Hub of the Incubating Feminist AI Project. \n 
URL:https://aplusalliance.org/event/8th-asia-network-meeting/
CATEGORIES:Eventos A+,Eventos virtuales
ATTACH;FMTTYPE=image/jpeg:https://aplusalliance.org/wp-content/uploads/2023/09/FeministAI8.jpg
END:VEVENT
END:VCALENDAR