BEGIN:VCALENDAR
VERSION:2.0
PRODID:-//A+ Alliance - ECPv6.15.20//NONSGML v1.0//EN
CALSCALE:GREGORIAN
METHOD:PUBLISH
X-WR-CALNAME:A+ Alliance
X-ORIGINAL-URL:https://aplusalliance.org
X-WR-CALDESC:Events for A+ Alliance
REFRESH-INTERVAL;VALUE=DURATION:PT1H
X-Robots-Tag:noindex
X-PUBLISHED-TTL:PT1H
BEGIN:VTIMEZONE
TZID:Europe/Paris
BEGIN:DAYLIGHT
TZOFFSETFROM:+0100
TZOFFSETTO:+0200
TZNAME:CEST
DTSTART:20230326T010000
END:DAYLIGHT
BEGIN:STANDARD
TZOFFSETFROM:+0200
TZOFFSETTO:+0100
TZNAME:CET
DTSTART:20231029T010000
END:STANDARD
BEGIN:DAYLIGHT
TZOFFSETFROM:+0100
TZOFFSETTO:+0200
TZNAME:CEST
DTSTART:20240331T010000
END:DAYLIGHT
BEGIN:STANDARD
TZOFFSETFROM:+0200
TZOFFSETTO:+0100
TZNAME:CET
DTSTART:20241027T010000
END:STANDARD
BEGIN:DAYLIGHT
TZOFFSETFROM:+0100
TZOFFSETTO:+0200
TZNAME:CEST
DTSTART:20250330T010000
END:DAYLIGHT
BEGIN:STANDARD
TZOFFSETFROM:+0200
TZOFFSETTO:+0100
TZNAME:CET
DTSTART:20251026T010000
END:STANDARD
END:VTIMEZONE
BEGIN:VEVENT
DTSTART;TZID=Europe/Paris:20240307T150000
DTEND;TZID=Europe/Paris:20240307T163000
DTSTAMP:20260421T124842
CREATED:20240216T100900Z
LAST-MODIFIED:20240216T100900Z
UID:23092-1709823600-1709829000@aplusalliance.org
SUMMARY:fr: Feminist AI - an exploration & celebration
DESCRIPTION:What is Feminist AI?  And who are the Majority World players creating pro-social AI\, designed with inclusion at the core\, creating new opportunities & innovative correction of inequities?    Join us as we explore concrete applications of these principles and celebrate Feminist AI in advance of International Women’s Day
URL:https://aplusalliance.org/event/fr-feminist-ai-an-exploration-celebration/
CATEGORIES:Eventos A+,Eventos virtuales
ATTACH;FMTTYPE=image/jpeg:https://aplusalliance.org/wp-content/uploads/2024/02/FAIR-for-Zoom-1.jpg
END:VEVENT
BEGIN:VEVENT
DTSTART;TZID=Europe/Paris:20240328T160000
DTEND;TZID=Europe/Paris:20240328T173000
DTSTAMP:20260421T124842
CREATED:20240216T101142Z
LAST-MODIFIED:20240216T101142Z
UID:23094-1711641600-1711647000@aplusalliance.org
SUMMARY:AI4D: Innovation Challenge
DESCRIPTION:The AI4D Innovation Challenge:    \nThe Gender and Inclusive AI Research and Innovation Challenge provides competitive funding for cutting edge\, gender-responsive and inclusive research that expands new knowledge relating to gender\, diversity\,  inclusion\, and Artificial Intelligence in the African context. This work is conducted by hubs and  labs participating in IDRC’s AI4D Africa Network program.  The Challenge aims to  develop and contribute to foundational knowledge to strengthen the growing field of applied gender-responsive and inclusive AI research.
URL:https://aplusalliance.org/event/ai4d-innovation-challenge/
CATEGORIES:Eventos A+,Eventos virtuales
ATTACH;FMTTYPE=image/jpeg:https://aplusalliance.org/wp-content/uploads/2024/02/AI4D-Main_v3.jpg
END:VEVENT
END:VCALENDAR