BEGIN:VCALENDAR
VERSION:2.0
PRODID:-//A+ Alliance - ECPv6.15.20//NONSGML v1.0//EN
CALSCALE:GREGORIAN
METHOD:PUBLISH
X-ORIGINAL-URL:https://aplusalliance.org
X-WR-CALDESC:Events for A+ Alliance
REFRESH-INTERVAL;VALUE=DURATION:PT1H
X-Robots-Tag:noindex
X-PUBLISHED-TTL:PT1H
BEGIN:VTIMEZONE
TZID:UTC
BEGIN:STANDARD
TZOFFSETFROM:+0000
TZOFFSETTO:+0000
TZNAME:UTC
DTSTART:20220101T000000
END:STANDARD
END:VTIMEZONE
BEGIN:VTIMEZONE
TZID:Asia/Shanghai
BEGIN:STANDARD
TZOFFSETFROM:+0800
TZOFFSETTO:+0800
TZNAME:CST
DTSTART:20220101T000000
END:STANDARD
END:VTIMEZONE
BEGIN:VTIMEZONE
TZID:Europe/Helsinki
BEGIN:DAYLIGHT
TZOFFSETFROM:+0200
TZOFFSETTO:+0300
TZNAME:EEST
DTSTART:20220327T010000
END:DAYLIGHT
BEGIN:STANDARD
TZOFFSETFROM:+0300
TZOFFSETTO:+0200
TZNAME:EET
DTSTART:20221030T010000
END:STANDARD
BEGIN:DAYLIGHT
TZOFFSETFROM:+0200
TZOFFSETTO:+0300
TZNAME:EEST
DTSTART:20230326T010000
END:DAYLIGHT
BEGIN:STANDARD
TZOFFSETFROM:+0300
TZOFFSETTO:+0200
TZNAME:EET
DTSTART:20231029T010000
END:STANDARD
BEGIN:DAYLIGHT
TZOFFSETFROM:+0200
TZOFFSETTO:+0300
TZNAME:EEST
DTSTART:20240331T010000
END:DAYLIGHT
BEGIN:STANDARD
TZOFFSETFROM:+0300
TZOFFSETTO:+0200
TZNAME:EET
DTSTART:20241027T010000
END:STANDARD
END:VTIMEZONE
BEGIN:VEVENT
DTSTART;TZID=UTC:20231207T140000
DTEND;TZID=UTC:20231207T150000
DTSTAMP:20260423T122615
CREATED:20231121T121831Z
LAST-MODIFIED:20231121T121831Z
UID:22842-1701957600-1701961200@aplusalliance.org
SUMMARY:Discussion on the Gig economy in Southeast Asia
DESCRIPTION:We’re excited to invite you to an illuminating talk on the Gig Economy in Southeast Asia by Stephanie Santos. The talk will be on December 7th at 2pm UTC.
URL:https://aplusalliance.org/event/discussion-on-the-gig-economy-in-southeast-asia/
CATEGORIES:Eventos A+,Eventos virtuales
ATTACH;FMTTYPE=image/jpeg:https://aplusalliance.org/wp-content/uploads/2023/01/01629744805434-scaled.jpg
END:VEVENT
BEGIN:VEVENT
DTSTART;TZID=Asia/Shanghai:20231207T210000
DTEND;TZID=Asia/Shanghai:20231207T220000
DTSTAMP:20260423T122615
CREATED:20231121T141733Z
LAST-MODIFIED:20231121T141818Z
UID:22845-1701982800-1701986400@aplusalliance.org
SUMMARY:The 9th ASIA Network Meeting
DESCRIPTION:Dr. Stephanie Santos will talk about inclusive algorithms and design for AI in the 9th ASIA Network Meeting organized by the Southeast Asian Hub of the Incubating Feminist AI Project.
URL:https://aplusalliance.org/event/the-9th-asia-network-meeting/
CATEGORIES:Eventos A+
ATTACH;FMTTYPE=image/png:https://aplusalliance.org/wp-content/uploads/2023/11/GigEconomy.png
END:VEVENT
BEGIN:VEVENT
DTSTART;TZID=Europe/Helsinki:20231214T163000
DTEND;TZID=Europe/Helsinki:20231214T180000
DTSTAMP:20260423T122615
CREATED:20230809T124806Z
LAST-MODIFIED:20230818T092831Z
UID:22457-1702571400-1702576800@aplusalliance.org
SUMMARY:Feminist AI Research Network Global Webinars: Global tfGBV: Solutions from across the globe
DESCRIPTION:In the last installment of the series for 2023\, our focus will be on Global tfGBV: Feminist AI across the globe with research + experts across the f<a+i>r network hubs in LAC\, MENA & SEA
URL:https://aplusalliance.org/event/fair-global-tfgbv-solutions-from-across-the-globe/
CATEGORIES:Eventos A+,Eventos virtuales
ATTACH;FMTTYPE=image/jpeg:https://aplusalliance.org/wp-content/uploads/2023/08/FAIR-FALL-EVENTS_Dec-14.jpg
END:VEVENT
END:VCALENDAR